BEGIN:VCALENDAR
VERSION:2.0
PRODID:-//OMVIC - ECPv6.15.18//NONSGML v1.0//EN
CALSCALE:GREGORIAN
METHOD:PUBLISH
X-ORIGINAL-URL:https://www.omvic.ca
X-WR-CALDESC:Events for OMVIC
REFRESH-INTERVAL;VALUE=DURATION:PT1H
X-Robots-Tag:noindex
X-PUBLISHED-TTL:PT1H
BEGIN:VTIMEZONE
TZID:America/Toronto
BEGIN:DAYLIGHT
TZOFFSETFROM:-0500
TZOFFSETTO:-0400
TZNAME:EDT
DTSTART:20220313T070000
END:DAYLIGHT
BEGIN:STANDARD
TZOFFSETFROM:-0400
TZOFFSETTO:-0500
TZNAME:EST
DTSTART:20221106T060000
END:STANDARD
BEGIN:DAYLIGHT
TZOFFSETFROM:-0500
TZOFFSETTO:-0400
TZNAME:EDT
DTSTART:20230312T070000
END:DAYLIGHT
BEGIN:STANDARD
TZOFFSETFROM:-0400
TZOFFSETTO:-0500
TZNAME:EST
DTSTART:20231105T060000
END:STANDARD
BEGIN:DAYLIGHT
TZOFFSETFROM:-0500
TZOFFSETTO:-0400
TZNAME:EDT
DTSTART:20240310T070000
END:DAYLIGHT
BEGIN:STANDARD
TZOFFSETFROM:-0400
TZOFFSETTO:-0500
TZNAME:EST
DTSTART:20241103T060000
END:STANDARD
BEGIN:DAYLIGHT
TZOFFSETFROM:-0500
TZOFFSETTO:-0400
TZNAME:EDT
DTSTART:20250309T070000
END:DAYLIGHT
BEGIN:STANDARD
TZOFFSETFROM:-0400
TZOFFSETTO:-0500
TZNAME:EST
DTSTART:20251102T060000
END:STANDARD
BEGIN:DAYLIGHT
TZOFFSETFROM:-0500
TZOFFSETTO:-0400
TZNAME:EDT
DTSTART:20260308T070000
END:DAYLIGHT
BEGIN:STANDARD
TZOFFSETFROM:-0400
TZOFFSETTO:-0500
TZNAME:EST
DTSTART:20261101T060000
END:STANDARD
END:VTIMEZONE
BEGIN:VEVENT
DTSTART;TZID=America/Toronto:20250416T130000
DTEND;TZID=America/Toronto:20250416T130000
DTSTAMP:20260420T114100
CREATED:20250403T141941Z
LAST-MODIFIED:20250403T141941Z
UID:10000983-1744808400-1744808400@www.omvic.ca
SUMMARY:Transaction Fee Reporting Webinar
DESCRIPTION:Are you an automotive dealer looking to stay informed about the latest transaction fee updates?\nJoin OMVIC’s upcoming webinar to gain valuable insights into how these changes impact your business. Our experts will break down key details\, answer your questions\, and ensure you stay compliant with industry regulations.
URL:https://www.omvic.ca/event/transaction-fee-reporting-webinar/
LOCATION:Zoom Videoconference Platform
CATEGORIES:Buying
END:VEVENT
BEGIN:VEVENT
DTSTART;TZID=America/Toronto:20241210T140000
DTEND;TZID=America/Toronto:20241210T150000
DTSTAMP:20260420T114100
CREATED:20241203T141213Z
LAST-MODIFIED:20241203T141231Z
UID:10000940-1733839200-1733842800@www.omvic.ca
SUMMARY:Webinar: Auto Tips with OMVIC
DESCRIPTION:Make smart decisions when buying or leasing your next car. Get helpful tips about spotting tricky ads and avoiding fraud\, understanding car loans and agreements\, and the OMVIC compensation fund. Presented in partnership with the Ontario Motor Vehicle Industry Council (OMVIC)\, the regulator of motor vehicle sales in Ontario.
URL:https://www.omvic.ca/event/webinar-auto-tips-with-omvic/
LOCATION:Zoom Videoconference Platform
CATEGORIES:Buying
END:VEVENT
BEGIN:VEVENT
DTSTART;TZID=America/Toronto:20241129T110000
DTEND;TZID=America/Toronto:20241129T120000
DTSTAMP:20260420T114100
CREATED:20241101T172341Z
LAST-MODIFIED:20241101T172411Z
UID:10000936-1732878000-1732881600@www.omvic.ca
SUMMARY:Webinar: New Transaction Fee Reporting Process effective January 2025
DESCRIPTION:OMVIC has enhanced its annual transaction fee reporting process to better support dealers in accurately reporting all motor vehicle retail\, lease\, and exported non-dealer transactions. \nThis process change follows a comprehensive review\, which included feedback from a recent pilot project and recommendations from the Auditor General of Ontario\, aimed at addressing identified inconsistencies and improving the overall process.
URL:https://www.omvic.ca/event/webinar-new-transaction-fee-reporting-process-effective-january-2025/
LOCATION:Zoom Videoconference Platform
END:VEVENT
BEGIN:VEVENT
DTSTART;TZID=America/Toronto:20241128T190000
DTEND;TZID=America/Toronto:20241128T200000
DTSTAMP:20260420T114100
CREATED:20241022T133243Z
LAST-MODIFIED:20241022T133243Z
UID:10000917-1732820400-1732824000@www.omvic.ca
SUMMARY:Webinar: Navigating The Vehicle Market: An Expert Guide to Informed Car Purchases - Markham Public Library
DESCRIPTION:Join us for a virtual workshop presented in partnership with the Ontario Motor Vehicle Industry Council (OMVIC)\, the regulator of motor vehicle sales in Ontario. OMVIC supports works to support consumers in their vehicle buying journey to ensure they are confident and informed about their purchase. \nIn this workshop\, OMVIC will provide resources\, tips\, and advice to car buyers on what to look for when leasing\, buying new\, and buying used cars in Ontario. Topics will include OMVIC’s role\, the Compensation Fund\, all-in price advertising\, contracts and disclosures\, and dealing with negative equity. Don’t miss this opportunity to gain valuable insights into car buying in Ontario. \nTo register: https://markham.bibliocommons.com/events/65f1be60638eb02f00f2a6ad
URL:https://www.omvic.ca/event/webinar-navigating-the-vehicle-market-an-expert-guide-to-informed-car-purchases-markham-public-library/
LOCATION:Zoom Videoconference Platform
CATEGORIES:Buying
END:VEVENT
BEGIN:VEVENT
DTSTART;TZID=America/Toronto:20241128T190000
DTEND;TZID=America/Toronto:20241128T200000
DTSTAMP:20260420T114100
CREATED:20240313T172433Z
LAST-MODIFIED:20240724T152902Z
UID:10000845-1732820400-1732824000@www.omvic.ca
SUMMARY:Webinar: Navigating The Vehicle Market: An Expert Guide to Informed Car Purchases
DESCRIPTION:Join us for a virtual workshop presented in partnership with the Ontario Motor Vehicle Industry Council (OMVIC)\, the regulator of motor vehicle sales in Ontario. OMVIC supports works to support consumers in their vehicle buying journey to ensure they are confident and informed about their purchase. \nIn this workshop\, OMVIC will provide resources\, tips\, and advice to car buyers on what to look for when leasing\, buying new\, and buying used cars in Ontario. Topics will include OMVIC’s role\, the Compensation Fund\, all-in price advertising\, contracts and disclosures\, and dealing with negative equity. Don’t miss this opportunity to gain valuable insights into car buying in Ontario.
URL:https://www.omvic.ca/event/navigating-the-vehicle-market-november/
LOCATION:Zoom Videoconference Platform
CATEGORIES:Buying
END:VEVENT
BEGIN:VEVENT
DTSTART;TZID=America/Toronto:20241119T183000
DTEND;TZID=America/Toronto:20241119T193000
DTSTAMP:20260420T114100
CREATED:20240815T194826Z
LAST-MODIFIED:20240815T194903Z
UID:10000890-1732041000-1732044600@www.omvic.ca
SUMMARY:Webinar: Buying a Car in Ontario - OMVIC and North Bay Public Library
DESCRIPTION:Join us for a virtual webinar presented by the Ontario Motor Vehicle Industry Council (OMVIC) the regulator of motor vehicle sales in Ontario in partnership with North Bay Public Library\, Buying a vehicle can be an emotionally charged experience with long-term financial implications. Join a representative from the Ontario Motor Vehicle Industry Council (OMVIC) to learn about resources and tips for buying new and used cars in Ontario. \nTopics will include: \n\nOMVIC’s Compensation Fund\nUnderstanding Car Dealer Advertising\nNegative Equity & Long Term Loans\nAgreement & Disclosure\nAvoiding Curbsides & Fraud Prevention\nTips for Buying or Leasing a Car
URL:https://www.omvic.ca/event/webinar-buying-a-car-in-ontario-omvic-and-north-bay-public-library/
LOCATION:Zoom Videoconference Platform
END:VEVENT
BEGIN:VEVENT
DTSTART;TZID=America/Toronto:20241114T110000
DTEND;TZID=America/Toronto:20241114T123000
DTSTAMP:20260420T114100
CREATED:20241030T175955Z
LAST-MODIFIED:20241030T184340Z
UID:10000933-1731582000-1731587400@www.omvic.ca
SUMMARY:OMVIC Webinar - Exporter Guidelines
DESCRIPTION:OMVIC is offering guidance on how best to support the industry and protect consumers\, including those involved in vehicle exporting and will be hosting two informational webinars (November 11 and November 14) to address any questions or comments.
URL:https://www.omvic.ca/event/omvic-webinar-exporter-guidelines-november-14/
LOCATION:Zoom Videoconference Platform
END:VEVENT
BEGIN:VEVENT
DTSTART;TZID=America/Toronto:20241111T130000
DTEND;TZID=America/Toronto:20241111T143000
DTSTAMP:20260420T114100
CREATED:20241030T164111Z
LAST-MODIFIED:20241030T184343Z
UID:10000931-1731330000-1731335400@www.omvic.ca
SUMMARY:OMVIC Webinar - Exporter Guidelines
DESCRIPTION:OMVIC is offering guidance on how best to support the industry and protect consumers\, including those involved in vehicle exporting and will be hosting two informational webinars (November 11 and November 14) to address any questions or comments.
URL:https://www.omvic.ca/event/omvic-webinar-exporter-guidelines/
LOCATION:Zoom Videoconference Platform
END:VEVENT
BEGIN:VEVENT
DTSTART;TZID=America/Toronto:20240919T190000
DTEND;TZID=America/Toronto:20240919T200000
DTSTAMP:20260420T114100
CREATED:20240313T172514Z
LAST-MODIFIED:20240726T140755Z
UID:10000843-1726772400-1726776000@www.omvic.ca
SUMMARY:Webinar: Navigating The Vehicle Market: An Expert Guide to Informed Car Purchases
DESCRIPTION:Join us for a virtual workshop presented in partnership with the Ontario Motor Vehicle Industry Council (OMVIC)\, the regulator of motor vehicle sales in Ontario. OMVIC supports works to support consumers in their vehicle buying journey to ensure they are confident and informed about their purchase. \nIn this workshop\, OMVIC will provide resources\, tips\, and advice to car buyers on what to look for when leasing\, buying new\, and buying used cars in Ontario. Topics will include OMVIC’s role\, the Compensation Fund\, all-in price advertising\, contracts and disclosures\, and dealing with negative equity. Don’t miss this opportunity to gain valuable insights into car buying in Ontario.
URL:https://www.omvic.ca/event/navigating-the-vehicle-market-september/
LOCATION:Zoom Videoconference Platform
CATEGORIES:Buying
END:VEVENT
BEGIN:VEVENT
DTSTART;TZID=America/Toronto:20240912T180000
DTEND;TZID=America/Toronto:20240912T190000
DTSTAMP:20260420T114100
CREATED:20240815T154430Z
LAST-MODIFIED:20240815T194513Z
UID:10000889-1726164000-1726167600@www.omvic.ca
SUMMARY:Webinar: Buying a Car in Ontario - OMVIC and YMCA of Northeastern Ontario
DESCRIPTION:Join us for a virtual webinar presented by the Ontario Motor Vehicle Industry Council (OMVIC) the regulator of motor vehicle sales in Ontario in partnership with YMCA of Northeastern Ontario. Buying a vehicle can be an emotionally charged experience with long-term financial implications. A representative from the Ontario Motor Vehicle Industry Council (OMVIC) will provide you resources and tips for buying new and used cars in Ontario. \nTopics will include: \n\nOMVIC’s Compensation Fund\nUnderstanding Car Dealer Advertising\nNegative Equity & Long Term Loans\nAgreement & Disclosure\nAvoiding Curbsides & Fraud Prevention\nTips for Buying or Leasing a Car
URL:https://www.omvic.ca/event/webinar-buying-a-car-in-ontario-omvic-and-ymca-of-northeastern-ontario/
LOCATION:Zoom Videoconference Platform
CATEGORIES:Buying
END:VEVENT
BEGIN:VEVENT
DTSTART;TZID=America/Toronto:20240726T110000
DTEND;TZID=America/Toronto:20240726T120000
DTSTAMP:20260420T114100
CREATED:20240716T002127Z
LAST-MODIFIED:20240716T002127Z
UID:10000881-1721991600-1721995200@www.omvic.ca
SUMMARY:Webinar: Understanding the Changes to the MVDA
DESCRIPTION:
URL:https://www.omvic.ca/event/webinar-understanding-the-changes-to-the-mvda/
LOCATION:Zoom Videoconference Platform
END:VEVENT
BEGIN:VEVENT
DTSTART;TZID=America/Toronto:20240621T110000
DTEND;TZID=America/Toronto:20240621T120000
DTSTAMP:20260420T114100
CREATED:20240620T194537Z
LAST-MODIFIED:20240620T194537Z
UID:10000874-1718967600-1718971200@www.omvic.ca
SUMMARY:Webinar: Transaction Fee Best Practices
DESCRIPTION:
URL:https://www.omvic.ca/event/webinar-transaction-fee-best-practices/
LOCATION:Zoom Videoconference Platform
END:VEVENT
BEGIN:VEVENT
DTSTART;TZID=America/Toronto:20240527T190000
DTEND;TZID=America/Toronto:20240527T200000
DTSTAMP:20260420T114100
CREATED:20240502T201818Z
LAST-MODIFIED:20240502T201818Z
UID:10000859-1716836400-1716840000@www.omvic.ca
SUMMARY:OMVIC Consumer hosted webinar
DESCRIPTION:
URL:https://www.omvic.ca/event/omvic-consumer-hosted-webinar/
LOCATION:Zoom Videoconference Platform
CATEGORIES:Buying
END:VEVENT
BEGIN:VEVENT
DTSTART;TZID=America/Toronto:20240425T190000
DTEND;TZID=America/Toronto:20240425T200000
DTSTAMP:20260420T114100
CREATED:20240405T181411Z
LAST-MODIFIED:20240405T181411Z
UID:10000851-1714071600-1714075200@www.omvic.ca
SUMMARY:Consumer Webinar - Buying New and Used Cars
DESCRIPTION:Are you thinking of buying a car this Fall? You probably want to hear about the resources\, tips\, and advice that OMVIC has to offer for new and used car buyers. The Ontario Motor Vehicle Industry Council is the regulator of motor vehicle sales in Ontario\, and they administer and enforce consumer protection legislation on behalf of the Ministry of Government and Consumer Services. Program will be offered on Zoom.
URL:https://www.omvic.ca/event/consumer-webinar-buying-new-and-used-cars/
LOCATION:Zoom Videoconference Platform
END:VEVENT
BEGIN:VEVENT
DTSTART;TZID=America/Toronto:20240425T120000
DTEND;TZID=America/Toronto:20240425T130000
DTSTAMP:20260420T114100
CREATED:20240405T181234Z
LAST-MODIFIED:20240405T181246Z
UID:10000850-1714046400-1714050000@www.omvic.ca
SUMMARY:Consumer Webinar - Financial Protections for Car Buyers
DESCRIPTION:Take a break in the middle of your day to explore topics that will help you in practical ways. You can attend online while munching on mute at your desk or brown bag it and join us in-person at the Library. \nLearn about the protections available to you when purchasing a car in Ontario. OMVIC (the Ontario Motor Vehicle Industry Council) presents this informative webinar for future car-buyers.
URL:https://www.omvic.ca/event/consumer-webinar-financial-protections-for-car-buyers/
LOCATION:Zoom Videoconference Platform
END:VEVENT
BEGIN:VEVENT
DTSTART;TZID=America/Toronto:20240418T063000
DTEND;TZID=America/Toronto:20240418T193000
DTSTAMP:20260420T114100
CREATED:20240405T180957Z
LAST-MODIFIED:20240405T181057Z
UID:10000849-1713421800-1713468600@www.omvic.ca
SUMMARY:Consumer Webinar - Buying New and Used Vehicles
DESCRIPTION:Be prepared when purchasing new and used cars in Ontario! Tips and resources will be provided on how to research a vehicle’s history\, how to understand your consumer rights\, what to know before pursuing a deal\, and an overview on purchase contracts. Presented in partnership with the Ontario Motor Vehicle Industry Council.
URL:https://www.omvic.ca/event/buying-new-and-used-vehicles-webinar/
LOCATION:Zoom Videoconference Platform
END:VEVENT
BEGIN:VEVENT
DTSTART;TZID=America/Toronto:20240411T190000
DTEND;TZID=America/Toronto:20240411T200000
DTSTAMP:20260420T114100
CREATED:20240405T180840Z
LAST-MODIFIED:20240405T181110Z
UID:10000848-1712862000-1712865600@www.omvic.ca
SUMMARY:Consumer Webinar - Understanding Your Car Buying Rights
DESCRIPTION:Get car-buying tips and learn how to protect yourself throughout the car-buying process. A representative from the Ontario Motor Vehicle Industry Council (OMVIC) provides resources\, tips\, and advice to car buyers for buying new and used cars in Ontario.
URL:https://www.omvic.ca/event/understanding-your-car-buying-rights/
LOCATION:Zoom Videoconference Platform
END:VEVENT
BEGIN:VEVENT
DTSTART;TZID=America/Toronto:20231211T190000
DTEND;TZID=America/Toronto:20231211T200000
DTSTAMP:20260420T114100
CREATED:20231121T014208Z
LAST-MODIFIED:20231122T142804Z
UID:10000399-1702321200-1702324800@www.omvic.ca
SUMMARY:Need to know tips on how to buy a car in Ontario
DESCRIPTION:OMVIC will be hosting a FREE car-buying webinar open to the public on Monday\, December 11\, 2023\, at 7:00 p.m.  \nAccess this webinar here. \nThe webinar is intended to inform you\, as a consumer\, of your rights when buying a vehicle in Ontario. Participants will leave informed and with increased confidence going into their first (or next) vehicle purchase in Ontario. \nTopics covered during this webinar include: \n\nOMVIC’s role as the motor vehicle industry regulator.\nConsumer rights and protections (when applicable).\nDifference between buying from a dealer and buying privately.\nWhat to look for in dealer advertisements.\nWhat dealers must disclose about a vehicle’s history and condition.\nThe dangers posed by curbsiders (illegal\, unlicensed dealers).\nGeneral car-buying tips\, like how to research a vehicle.\nWhat to do if you encounter a problem with a purchase.\n\n  \nThis webinar is open to everyone and is free! We look forward to helping you become confident car-buyers. \nNote: a computer or cell phone with sound is required to access the Zoom webinar. \nFor more information about OMVIC\, and consumer car-buying rights\, click here.
URL:https://www.omvic.ca/event/need-to-know-tips-on-how-to-buy-a-car-in-ontario-2/
LOCATION:Zoom Videoconference Platform
CATEGORIES:Buying
END:VEVENT
BEGIN:VEVENT
DTSTART;TZID=America/Toronto:20231130T183000
DTEND;TZID=America/Toronto:20231130T193000
DTSTAMP:20260420T114100
CREATED:20231018T204751Z
LAST-MODIFIED:20231123T153731Z
UID:10000009-1701369000-1701372600@www.omvic.ca
SUMMARY:Need to know tips on how to buy a car in Ontario - Hosted by Ajax Public Library
DESCRIPTION:OMVIC will be hosting a FREE car-buying webinar open to the public on Thursday\, November 30\, 2023\, at 6:30 p.m.  \nRegister for this webinar here. \nThe webinar is intended to inform you\, as a consumer\, of your rights when buying a vehicle in Ontario. Participants will leave informed and with increased confidence going into their first (or next) vehicle purchase in Ontario. \nTopics covered during this webinar include: \n\nOMVIC’s role as the motor vehicle industry regulator.\nConsumer rights and protections (when applicable).\nDifference between buying from a dealer and buying privately.\nWhat to look for in dealer advertisements.\nWhat dealers must disclose about a vehicle’s history and condition.\nThe dangers posed by curbsiders (illegal\, unlicensed dealers).\nGeneral car-buying tips\, like how to research a vehicle.\nWhat to do if you encounter a problem with a purchase.\n\n  \nThis webinar is open to everyone and is free! We look forward to helping you become confident car buyers.\nNote: a computer or cell phone with sound is required to access the Zoom webinar.
URL:https://www.omvic.ca/event/need-to-know-tips-on-how-to-buy-a-car-in-ontario/
LOCATION:Zoom Videoconference Platform
CATEGORIES:Buying
END:VEVENT
BEGIN:VEVENT
DTSTART;TZID=America/Toronto:20231030T110000
DTEND;TZID=America/Toronto:20231030T120000
DTSTAMP:20260420T114100
CREATED:20231016T183404Z
LAST-MODIFIED:20231016T202238Z
UID:10000008-1698663600-1698667200@www.omvic.ca
SUMMARY:Dealer Training and Tips: Trade-in requirements
DESCRIPTION:When a car buyer trades in a used vehicle as part of the transaction for a newer one\, it’s important for both the car buyer and the dealer to know the rules. We’ve prepared\na guideline after consulting with stakeholders to help ensure awareness and compliance. \nLearn about the rules that apply when a car buyer trades in a used vehicle.
URL:https://www.omvic.ca/event/omvic-dealer-guideline-trade-in-requirements/
LOCATION:Zoom Videoconference Platform
END:VEVENT
BEGIN:VEVENT
DTSTART;TZID=America/Toronto:20231016T190000
DTEND;TZID=America/Toronto:20231016T200000
DTSTAMP:20260420T114100
CREATED:20231016T182652Z
LAST-MODIFIED:20231018T204442Z
UID:10000007-1697482800-1697486400@www.omvic.ca
SUMMARY:How to Buy a Car in Ontario - Know Your Rights!
DESCRIPTION:Don’t miss this free information session to learn your right when buying a car!  Ontario Motor Vehicle Industry Council (OMVIC) will provide resources\, tips\, and advice to car buyers for buying new and used motor vehicles in Ontario. \nThe webinar is intended to inform you\, as a consumer\, of your rights when buying a vehicle in Ontario. Participants will leave informed and with increased confidence going into their first (or next) vehicle purchase in Ontario. \nTopics covered during this webinar include: \n\nOMVIC’s role as the motor vehicle industry regulator.\nConsumer rights and protections (when applicable).\nDifference between buying from a dealer and buying privately.\nWhat to look for in dealer advertisements.\nWhat dealers must disclose about a vehicle’s history and condition.\nThe dangers posed by curbsiders (illegal\, unlicensed dealers).\nGeneral car-buying tips\, like how to research a vehicle.\nWhat to do if you encounter a problem with a purchase.\n\n  \nThis webinar is open to everyone and is free! We look forward to helping you become confident car-buyers. \nNote: a computer or cell phone with sound is required to access the Zoom webinar.
URL:https://www.omvic.ca/event/webinar-how-to-buy-a-car-in-ontario-know-your-rights/
LOCATION:Zoom Videoconference Platform
CATEGORIES:Buying
END:VEVENT
END:VCALENDAR