BEGIN:VCALENDAR
VERSION:2.0
PRODID:-//OMVIC - ECPv6.15.20//NONSGML v1.0//EN
CALSCALE:GREGORIAN
METHOD:PUBLISH
X-WR-CALNAME:OMVIC
X-ORIGINAL-URL:https://www.omvic.ca
X-WR-CALDESC:Events for OMVIC
REFRESH-INTERVAL;VALUE=DURATION:PT1H
X-Robots-Tag:noindex
X-PUBLISHED-TTL:PT1H
BEGIN:VTIMEZONE
TZID:America/Toronto
BEGIN:DAYLIGHT
TZOFFSETFROM:-0500
TZOFFSETTO:-0400
TZNAME:EDT
DTSTART:20240310T070000
END:DAYLIGHT
BEGIN:STANDARD
TZOFFSETFROM:-0400
TZOFFSETTO:-0500
TZNAME:EST
DTSTART:20241103T060000
END:STANDARD
BEGIN:DAYLIGHT
TZOFFSETFROM:-0500
TZOFFSETTO:-0400
TZNAME:EDT
DTSTART:20250309T070000
END:DAYLIGHT
BEGIN:STANDARD
TZOFFSETFROM:-0400
TZOFFSETTO:-0500
TZNAME:EST
DTSTART:20251102T060000
END:STANDARD
BEGIN:DAYLIGHT
TZOFFSETFROM:-0500
TZOFFSETTO:-0400
TZNAME:EDT
DTSTART:20260308T070000
END:DAYLIGHT
BEGIN:STANDARD
TZOFFSETFROM:-0400
TZOFFSETTO:-0500
TZNAME:EST
DTSTART:20261101T060000
END:STANDARD
END:VTIMEZONE
BEGIN:VEVENT
DTSTART;TZID=America/Toronto:20251203T183000
DTEND;TZID=America/Toronto:20251203T193000
DTSTAMP:20260423T131734
CREATED:20251017T204713Z
LAST-MODIFIED:20260323T164935Z
UID:10001145-1764786600-1764790200@www.omvic.ca
SUMMARY:Car Buying Webinar with Clarington Public Library
DESCRIPTION:Join us for a virtual webinar presented by the Ontario Motor Vehicle Industry Council (OMVIC) the regulator of motor vehicle sales in Ontario in partnership with Clarington Public Library. Buying a vehicle can be an challenging experience with long-term financial implications. A representative from the Ontario Motor Vehicle Industry Council (OMVIC) will provide you resources and tips for buying new and used cars in Ontario. \nTopics will include: \n\nOMVIC’s Compensation Fund\nUnderstanding Car Dealer Advertising\nNegative Equity & Long Term Loans\nAgreement & Disclosure\nAvoiding Curbsides & Fraud Prevention\nTips for Buying or Leasing a Car
URL:https://www.omvic.ca/event/car-buying-webinar-with-clarington-public-library/
LOCATION:Zoom Videoconference Platform
CATEGORIES:Buying,Hosted by community partners
ATTACH;FMTTYPE=image/png:https://www.omvic.ca/wp-content/uploads/2025/10/Car-Buying-Webinar-Artwork.png
END:VEVENT
BEGIN:VEVENT
DTSTART;TZID=America/Toronto:20251211T173000
DTEND;TZID=America/Toronto:20251211T183000
DTSTAMP:20260423T131734
CREATED:20251029T163123Z
LAST-MODIFIED:20260323T164933Z
UID:10001151-1765474200-1765477800@www.omvic.ca
SUMMARY:Car Buying Webinar with East Gwillimbury Public Library
DESCRIPTION:Join us for a virtual webinar presented by the Ontario Motor Vehicle Industry Council (OMVIC) the regulator of motor vehicle sales in Ontario in partnership with East Gwillimbury Public Library. Buying a vehicle can be an challenging experience with long-term financial implications. A representative from the Ontario Motor Vehicle Industry Council (OMVIC) will provide you resources and tips for buying new and used cars in Ontario. \nTopics will include: \n\nOMVIC’s Compensation Fund\nUnderstanding Car Dealer Advertising\nNegative Equity & Long Term Loans\nAgreement & Disclosure\nAvoiding Curbsiders & Fraud Prevention\nTips for Buying or Leasing a Car
URL:https://www.omvic.ca/event/car-buying-webinar-with-east-gwillimbury-public-library/
LOCATION:Zoom Videoconference Platform
CATEGORIES:Buying,Hosted by community partners
ATTACH;FMTTYPE=image/png:https://www.omvic.ca/wp-content/uploads/2025/10/Car-Buying-Webinar-Artwork.png
END:VEVENT
END:VCALENDAR