BEGIN:VCALENDAR
VERSION:2.0
PRODID:-//OMVIC - ECPv6.15.18//NONSGML v1.0//EN
CALSCALE:GREGORIAN
METHOD:PUBLISH
X-ORIGINAL-URL:https://www.omvic.ca
X-WR-CALDESC:Events for OMVIC
REFRESH-INTERVAL;VALUE=DURATION:PT1H
X-Robots-Tag:noindex
X-PUBLISHED-TTL:PT1H
BEGIN:VTIMEZONE
TZID:America/Toronto
BEGIN:DAYLIGHT
TZOFFSETFROM:-0500
TZOFFSETTO:-0400
TZNAME:EDT
DTSTART:20240310T070000
END:DAYLIGHT
BEGIN:STANDARD
TZOFFSETFROM:-0400
TZOFFSETTO:-0500
TZNAME:EST
DTSTART:20241103T060000
END:STANDARD
BEGIN:DAYLIGHT
TZOFFSETFROM:-0500
TZOFFSETTO:-0400
TZNAME:EDT
DTSTART:20250309T070000
END:DAYLIGHT
BEGIN:STANDARD
TZOFFSETFROM:-0400
TZOFFSETTO:-0500
TZNAME:EST
DTSTART:20251102T060000
END:STANDARD
BEGIN:DAYLIGHT
TZOFFSETFROM:-0500
TZOFFSETTO:-0400
TZNAME:EDT
DTSTART:20260308T070000
END:DAYLIGHT
BEGIN:STANDARD
TZOFFSETFROM:-0400
TZOFFSETTO:-0500
TZNAME:EST
DTSTART:20261101T060000
END:STANDARD
END:VTIMEZONE
BEGIN:VEVENT
DTSTART;TZID=America/Toronto:20250609T190000
DTEND;TZID=America/Toronto:20250609T200000
DTSTAMP:20260420T223142
CREATED:20250512T204420Z
LAST-MODIFIED:20250512T204437Z
UID:10000999-1749495600-1749499200@www.omvic.ca
SUMMARY:Buying New & Used Cars in Ontario
DESCRIPTION:Join us for a virtual webinar presented in partnership with the Ontario Motor Vehicle Industry Council (OMVIC)\, the regulator of motor vehicle sales in Ontario. \nOMVIC supports you in your vehicle buying journey to make sure you are confident and informed about your purchase. \nIn this webinar\, OMVIC will provide resources\, tips\, and advice to car buyers on the following topics: \n\nWho is OMVIC and how they can help\nCompensation Fund\nUnderstanding car dealer advertising\nNegative equity and long-term loans\nAgreement and disclosures\nAvoiding curbsides and fraud prevention\nTips for buying or leasing a car
URL:https://www.omvic.ca/event/buying-new-used-cars-in-ontario/
CATEGORIES:Buying
LOCATION:
END:VEVENT
BEGIN:VEVENT
DTSTART;TZID=America/Toronto:20250612T190000
DTEND;TZID=America/Toronto:20250612T200000
DTSTAMP:20260420T223142
CREATED:20250521T200538Z
LAST-MODIFIED:20250521T200538Z
UID:10001012-1749754800-1749758400@www.omvic.ca
SUMMARY:Understanding Your Car Buying Rights
DESCRIPTION:Join the Ontario Motor Vehicle Industry Council (OMVIC) for an informative webinar designed to empower car buyers in Ontario. Whether you’re purchasing a new or used vehicle\, this session will provide essential tips\, resources\, and advice to help you make informed decisions and protect yourself throughout the car-buying journey. \nLearn what your rights are\, what to watch out for\, and how OMVIC helps ensure a fair and transparent marketplace.
URL:https://www.omvic.ca/event/understanding-your-car-buying-rights-2/
CATEGORIES:Buying
LOCATION:
END:VEVENT
END:VCALENDAR