BEGIN:VCALENDAR
VERSION:2.0
PRODID:-//OMVIC - ECPv6.15.20//NONSGML v1.0//EN
CALSCALE:GREGORIAN
METHOD:PUBLISH
X-ORIGINAL-URL:https://www.omvic.ca
X-WR-CALDESC:Events for OMVIC
REFRESH-INTERVAL;VALUE=DURATION:PT1H
X-Robots-Tag:noindex
X-PUBLISHED-TTL:PT1H
BEGIN:VTIMEZONE
TZID:America/Toronto
BEGIN:DAYLIGHT
TZOFFSETFROM:-0500
TZOFFSETTO:-0400
TZNAME:EDT
DTSTART:20240310T070000
END:DAYLIGHT
BEGIN:STANDARD
TZOFFSETFROM:-0400
TZOFFSETTO:-0500
TZNAME:EST
DTSTART:20241103T060000
END:STANDARD
BEGIN:DAYLIGHT
TZOFFSETFROM:-0500
TZOFFSETTO:-0400
TZNAME:EDT
DTSTART:20250309T070000
END:DAYLIGHT
BEGIN:STANDARD
TZOFFSETFROM:-0400
TZOFFSETTO:-0500
TZNAME:EST
DTSTART:20251102T060000
END:STANDARD
BEGIN:DAYLIGHT
TZOFFSETFROM:-0500
TZOFFSETTO:-0400
TZNAME:EDT
DTSTART:20260308T070000
END:DAYLIGHT
BEGIN:STANDARD
TZOFFSETFROM:-0400
TZOFFSETTO:-0500
TZNAME:EST
DTSTART:20261101T060000
END:STANDARD
END:VTIMEZONE
BEGIN:VEVENT
DTSTART;TZID=America/Toronto:20250806T093000
DTEND;TZID=America/Toronto:20250806T101500
DTSTAMP:20260422T182037
CREATED:20250530T184813Z
LAST-MODIFIED:20250925T134926Z
UID:10001032-1754472600-1754475300@www.omvic.ca
SUMMARY:Disclosures Compliance
DESCRIPTION:Join us for a comprehensive webinar on Disclosures Compliance for registrants. \nThis session will cover key topics such as: \n\nMandatory Disclosures: Understand the essential information that must be disclosed\, including vehicle history\, usage\, and condition.\nLegal Compliance: Learn about the legal obligations under the Motor Vehicle Dealers Act (MVDA) and the Consumer Protection Act (CPA).\nBest Practices: Discover effective strategies to ensure all disclosures are clear\, comprehensible\, and prominently presented.\nConsequences of Non-Compliance: Gain insights into the potential legal and regulatory penalties for failing to make required disclosures.\n\nThis webinar is crucial for dealers and salespersons aiming to maintain compliance and build trust with their customers. \nDuration : 45 minutes
URL:https://www.omvic.ca/event/disclosures-compliance-aug/
LOCATION:Zoom Videoconference Platform
CATEGORIES:Disclosures compliance,Selling
ATTACH;FMTTYPE=image/jpeg:https://www.omvic.ca/wp-content/uploads/2025/09/Webinar-Image-Disclosures-Compliance.jpg
END:VEVENT
BEGIN:VEVENT
DTSTART;TZID=America/Toronto:20250806T140000
DTEND;TZID=America/Toronto:20250806T144500
DTSTAMP:20260422T182037
CREATED:20250530T184900Z
LAST-MODIFIED:20250925T134905Z
UID:10001033-1754488800-1754491500@www.omvic.ca
SUMMARY:Disclosures Compliance
DESCRIPTION:Join us for a comprehensive webinar on Disclosures Compliance for registrants. \nThis session will cover key topics such as: \n\nMandatory Disclosures: Understand the essential information that must be disclosed\, including vehicle history\, usage\, and condition.\nLegal Compliance: Learn about the legal obligations under the Motor Vehicle Dealers Act (MVDA) and the Consumer Protection Act (CPA).\nBest Practices: Discover effective strategies to ensure all disclosures are clear\, comprehensible\, and prominently presented.\nConsequences of Non-Compliance: Gain insights into the potential legal and regulatory penalties for failing to make required disclosures.\n\nThis webinar is crucial for dealers and salespersons aiming to maintain compliance and build trust with their customers. \nDuration : 45 minutes
URL:https://www.omvic.ca/event/disclosures-compliance-aug-2/
LOCATION:Zoom Videoconference Platform
CATEGORIES:Disclosures compliance,Selling
ATTACH;FMTTYPE=image/jpeg:https://www.omvic.ca/wp-content/uploads/2025/09/Webinar-Image-Disclosures-Compliance.jpg
END:VEVENT
BEGIN:VEVENT
DTSTART;TZID=America/Toronto:20250812T130000
DTEND;TZID=America/Toronto:20250812T140000
DTSTAMP:20260422T182037
CREATED:20250812T135210Z
LAST-MODIFIED:20250812T135210Z
UID:10001093-1755003600-1755007200@www.omvic.ca
SUMMARY:Buying a Car in Ontario
DESCRIPTION:Buying a vehicle can be an emotionally charged experience with long-term financial implications. \nJoin a representative from the Ontario Motor Vehicle Industry Council (OMVIC) to learn about resources and tips for buying new and used cars in Ontario. \nTopics will include: \n\nOMVIC’s Compensation Fund\nUnderstanding Car Dealer Advertising\nNegative Equity & Long Term Loans\nAgreement & Disclosure\nAvoiding Curbsides & Fraud Prevention\nTips for Buying or Leasing a Car
URL:https://www.omvic.ca/event/buying-a-car-in-ontario/
CATEGORIES:Buying
LOCATION:
END:VEVENT
BEGIN:VEVENT
DTSTART;TZID=America/Toronto:20250813T093000
DTEND;TZID=America/Toronto:20250813T101500
DTSTAMP:20260422T182037
CREATED:20250530T185020Z
LAST-MODIFIED:20250925T140702Z
UID:10001034-1755077400-1755080100@www.omvic.ca
SUMMARY:Advertising Compliance
DESCRIPTION:Join us for an insightful webinar on Advertising Compliance designed specifically for registrants. \nThis session will cover essential topics such as: \n\nClear and Comprehensible Advertising: Ensuring your advertisements are straightforward and easy to understand.\nMandatory Disclosures: Learn about the required information that must be included in all vehicle advertisements.\nCompliance with Legislation: Understand the legal requirements set out in the Motor Vehicle Dealers Act and the Consumer Protection Act.\nBest Practices: Discover effective strategies to avoid misleading or misrepresentative advertising.\n\nThis webinar is a must-attend for dealers and salespersons looking to stay compliant and enhance their advertising practices. \nDuration : 45 minutes
URL:https://www.omvic.ca/event/advertising-compliance-aug/
CATEGORIES:Advertising compliance,Selling
ATTACH;FMTTYPE=image/jpeg:https://www.omvic.ca/wp-content/uploads/2025/09/Webinar-Image-Advertising-Compliance.jpg
END:VEVENT
BEGIN:VEVENT
DTSTART;TZID=America/Toronto:20250813T140000
DTEND;TZID=America/Toronto:20250813T144500
DTSTAMP:20260422T182037
CREATED:20250530T185053Z
LAST-MODIFIED:20250925T140652Z
UID:10001035-1755093600-1755096300@www.omvic.ca
SUMMARY:Advertising Compliance
DESCRIPTION:Join us for an insightful webinar on Advertising Compliance designed specifically for registrants. \nThis session will cover essential topics such as: \n\nClear and Comprehensible Advertising: Ensuring your advertisements are straightforward and easy to understand.\nMandatory Disclosures: Learn about the required information that must be included in all vehicle advertisements.\nCompliance with Legislation: Understand the legal requirements set out in the Motor Vehicle Dealers Act and the Consumer Protection Act.\nBest Practices: Discover effective strategies to avoid misleading or misrepresentative advertising.\n\nThis webinar is a must-attend for dealers and salespersons looking to stay compliant and enhance their advertising practices. \nDuration : 45 minutes
URL:https://www.omvic.ca/event/advertising-compliance-aug-2/
LOCATION:Zoom Videoconference Platform
CATEGORIES:Advertising compliance,Selling
ATTACH;FMTTYPE=image/jpeg:https://www.omvic.ca/wp-content/uploads/2025/09/Webinar-Image-Advertising-Compliance.jpg
END:VEVENT
END:VCALENDAR