BEGIN:VCALENDAR
VERSION:2.0
PRODID:-//OMVIC - ECPv6.15.20//NONSGML v1.0//EN
CALSCALE:GREGORIAN
METHOD:PUBLISH
X-WR-CALNAME:OMVIC
X-ORIGINAL-URL:https://www.omvic.ca
X-WR-CALDESC:Events for OMVIC
REFRESH-INTERVAL;VALUE=DURATION:PT1H
X-Robots-Tag:noindex
X-PUBLISHED-TTL:PT1H
BEGIN:VTIMEZONE
TZID:America/Toronto
BEGIN:DAYLIGHT
TZOFFSETFROM:-0500
TZOFFSETTO:-0400
TZNAME:EDT
DTSTART:20230312T070000
END:DAYLIGHT
BEGIN:STANDARD
TZOFFSETFROM:-0400
TZOFFSETTO:-0500
TZNAME:EST
DTSTART:20231105T060000
END:STANDARD
BEGIN:DAYLIGHT
TZOFFSETFROM:-0500
TZOFFSETTO:-0400
TZNAME:EDT
DTSTART:20240310T070000
END:DAYLIGHT
BEGIN:STANDARD
TZOFFSETFROM:-0400
TZOFFSETTO:-0500
TZNAME:EST
DTSTART:20241103T060000
END:STANDARD
BEGIN:DAYLIGHT
TZOFFSETFROM:-0500
TZOFFSETTO:-0400
TZNAME:EDT
DTSTART:20250309T070000
END:DAYLIGHT
BEGIN:STANDARD
TZOFFSETFROM:-0400
TZOFFSETTO:-0500
TZNAME:EST
DTSTART:20251102T060000
END:STANDARD
END:VTIMEZONE
BEGIN:VEVENT
DTSTART;TZID=America/Toronto:20241106T183000
DTEND;TZID=America/Toronto:20241106T193000
DTSTAMP:20260422T050755
CREATED:20241007T185516Z
LAST-MODIFIED:20241007T185516Z
UID:10000909-1730917800-1730921400@www.omvic.ca
SUMMARY:Webinar: Buying a Car in Ontario - Hamilton Public Library
DESCRIPTION:Buying a vehicle can be an emotionally charged experience with long-term financial implications. \nJoin a representative from the Ontario Motor Vehicle Industry Council (OMVIC) to learn about resources and tips for buying new and used cars in Ontario. \nTopics will include: \n\nOMVIC’s Compensation Fund\nUnderstanding Car Dealer Advertising\nNegative Equity & Long Term Loans\nAgreement & Disclosure\nAvoiding Curbsides & Fraud Prevention\nTips for Buying or Leasing a Car\n\nIn partnership with the Ontario Motor Vehicle Industry Council (OMVIC) and Hamilton Public Library \n  \nRegister here: https://events.hpl.ca/event/11959654
URL:https://www.omvic.ca/event/webinar-buying-a-car-in-ontario-hamilton-public-library/
CATEGORIES:Buying
END:VEVENT
BEGIN:VEVENT
DTSTART;TZID=America/Toronto:20241107T110000
DTEND;TZID=America/Toronto:20241107T120000
DTSTAMP:20260422T050755
CREATED:20241023T193027Z
LAST-MODIFIED:20241023T193150Z
UID:10000930-1730977200-1730980800@www.omvic.ca
SUMMARY:OMVIC Webinar - Key Obligations for Auctions
DESCRIPTION:OMVIC is issuing this bulletin to address the following issues related to auctions:  \n\nauctions not meeting their disclosure obligations pursuant to the Motor Vehicle Dealers Act\, 2002 (the “Act”); and \nauctions operating unlawfully under the exempt status.\n \n\nTo register please click the link below.
URL:https://www.omvic.ca/event/omvic-webinar-key-obligations-for-auctions/
END:VEVENT
BEGIN:VEVENT
DTSTART;TZID=America/Toronto:20241111T130000
DTEND;TZID=America/Toronto:20241111T143000
DTSTAMP:20260422T050755
CREATED:20241030T164111Z
LAST-MODIFIED:20241030T184343Z
UID:10000931-1731330000-1731335400@www.omvic.ca
SUMMARY:OMVIC Webinar - Exporter Guidelines
DESCRIPTION:OMVIC is offering guidance on how best to support the industry and protect consumers\, including those involved in vehicle exporting and will be hosting two informational webinars (November 11 and November 14) to address any questions or comments.
URL:https://www.omvic.ca/event/omvic-webinar-exporter-guidelines/
LOCATION:Zoom Videoconference Platform
END:VEVENT
BEGIN:VEVENT
DTSTART;TZID=America/Toronto:20241112T150000
DTEND;TZID=America/Toronto:20241112T160000
DTSTAMP:20260422T050755
CREATED:20241007T183040Z
LAST-MODIFIED:20241007T183040Z
UID:10000905-1731423600-1731427200@www.omvic.ca
SUMMARY:Webinar: Buying a Car in Ontario – Kawartha Lakes Public Library
DESCRIPTION:Buying a vehicle can be an emotionally charged experience with long-term financial implications. \nJoin a representative from the Ontario Motor Vehicle Industry Council (OMVIC) to learn about resources and tips for buying new and used cars in Ontario. \nTopics will include: \n\nOMVIC’s Compensation Fund\nUnderstanding Car Dealer Advertising\nNegative Equity & Long Term Loans\nAgreement & Disclosure\nAvoiding Curbsides & Fraud Prevention\nTips for Buying or Leasing a Car\n\nIn partnership with the Ontario Motor Vehicle Industry Council (OMVIC) and the Kawartha Lakes Public Library \n  \nTo register please contact the library staff by phone:705-324-9411 or visit: https://www.kawarthalakeslibrary.ca/en/index.aspx
URL:https://www.omvic.ca/event/webinar-buying-a-car-in-ontario-kawartha-lakes-public-library/
CATEGORIES:Buying
END:VEVENT
BEGIN:VEVENT
DTSTART;TZID=America/Toronto:20241114T110000
DTEND;TZID=America/Toronto:20241114T123000
DTSTAMP:20260422T050755
CREATED:20241030T175955Z
LAST-MODIFIED:20241030T184340Z
UID:10000933-1731582000-1731587400@www.omvic.ca
SUMMARY:OMVIC Webinar - Exporter Guidelines
DESCRIPTION:OMVIC is offering guidance on how best to support the industry and protect consumers\, including those involved in vehicle exporting and will be hosting two informational webinars (November 11 and November 14) to address any questions or comments.
URL:https://www.omvic.ca/event/omvic-webinar-exporter-guidelines-november-14/
LOCATION:Zoom Videoconference Platform
END:VEVENT
BEGIN:VEVENT
DTSTART;TZID=America/Toronto:20241116T110000
DTEND;TZID=America/Toronto:20241116T120000
DTSTAMP:20260422T050755
CREATED:20241007T183149Z
LAST-MODIFIED:20241007T183149Z
UID:10000907-1731754800-1731758400@www.omvic.ca
SUMMARY:Webinar: Buying a Car in Ontario – Kawartha Lakes Public Library
DESCRIPTION:Buying a vehicle can be an emotionally charged experience with long-term financial implications. \nJoin a representative from the Ontario Motor Vehicle Industry Council (OMVIC) to learn about resources and tips for buying new and used cars in Ontario. \nTopics will include: \n\nOMVIC’s Compensation Fund\nUnderstanding Car Dealer Advertising\nNegative Equity & Long Term Loans\nAgreement & Disclosure\nAvoiding Curbsides & Fraud Prevention\nTips for Buying or Leasing a Car\n\nIn partnership with the Ontario Motor Vehicle Industry Council (OMVIC) and the Kawartha Lakes Public Library \n  \nTo register please contact the library staff by phone:705-324-9411 or visit: https://www.kawarthalakeslibrary.ca/en/index.aspx
URL:https://www.omvic.ca/event/webinar-buying-a-car-in-ontario-kawartha-lakes-public-library-2/
CATEGORIES:Buying
END:VEVENT
BEGIN:VEVENT
DTSTART;TZID=America/Toronto:20241119T183000
DTEND;TZID=America/Toronto:20241119T193000
DTSTAMP:20260422T050755
CREATED:20240815T194826Z
LAST-MODIFIED:20240815T194903Z
UID:10000890-1732041000-1732044600@www.omvic.ca
SUMMARY:Webinar: Buying a Car in Ontario - OMVIC and North Bay Public Library
DESCRIPTION:Join us for a virtual webinar presented by the Ontario Motor Vehicle Industry Council (OMVIC) the regulator of motor vehicle sales in Ontario in partnership with North Bay Public Library\, Buying a vehicle can be an emotionally charged experience with long-term financial implications. Join a representative from the Ontario Motor Vehicle Industry Council (OMVIC) to learn about resources and tips for buying new and used cars in Ontario. \nTopics will include: \n\nOMVIC’s Compensation Fund\nUnderstanding Car Dealer Advertising\nNegative Equity & Long Term Loans\nAgreement & Disclosure\nAvoiding Curbsides & Fraud Prevention\nTips for Buying or Leasing a Car
URL:https://www.omvic.ca/event/webinar-buying-a-car-in-ontario-omvic-and-north-bay-public-library/
LOCATION:Zoom Videoconference Platform
END:VEVENT
BEGIN:VEVENT
DTSTART;TZID=America/Toronto:20241120T190000
DTEND;TZID=America/Toronto:20241120T200000
DTSTAMP:20260422T050755
CREATED:20240725T192910Z
LAST-MODIFIED:20241007T182335Z
UID:10000882-1732129200-1732132800@www.omvic.ca
SUMMARY:Webinar: Buying a Car in Ontario - Aurora Public Library
DESCRIPTION:Buying a vehicle can be an emotionally charged experience with long-term financial implications. \nJoin a representative from the Ontario Motor Vehicle Industry Council (OMVIC) to learn about resources and tips for buying new and used cars in Ontario. \nTopics will include: \n\nOMVIC’s Compensation Fund\nUnderstanding Car Dealer Advertising\nNegative Equity & Long Term Loans\nAgreement & Disclosure\nAvoiding Curbsides & Fraud Prevention\nTips for Buying or Leasing a Car\n\nIn partnership with the Ontario Motor Vehicle Industry Council (OMVIC) and the Aurora Public Library
URL:https://www.omvic.ca/event/webinar-buying-a-car-in-ontario/
CATEGORIES:Buying
END:VEVENT
BEGIN:VEVENT
DTSTART;TZID=America/Toronto:20241121T183000
DTEND;TZID=America/Toronto:20241121T193000
DTSTAMP:20260422T050755
CREATED:20241022T133137Z
LAST-MODIFIED:20241022T133137Z
UID:10000916-1732213800-1732217400@www.omvic.ca
SUMMARY:Webinar: Buying New and Used Vehicles in Ontario – Ajax Public Library
DESCRIPTION:Buying a vehicle can be an emotionally charged experience with long-term financial implications. \nJoin a representative from the Ontario Motor Vehicle Industry Council (OMVIC) to learn about resources and tips for buying new and used cars in Ontario. \nTopics will include: \n\nOMVIC’s Compensation Fund\nUnderstanding Car Dealer Advertising\nNegative Equity & Long Term Loans\nAgreement & Disclosure\nAvoiding Curbsides & Fraud Prevention\nTips for Buying or Leasing a Car\n\nIn partnership with the Ontario Motor Vehicle Industry Council (OMVIC) and the Ajax Public Library \n  \nTo register click here:https://ajaxlibrary.ca/node/2698
URL:https://www.omvic.ca/event/webinar-buying-new-and-used-vehicles-in-ontario-ajax-public-library/
CATEGORIES:Buying
END:VEVENT
BEGIN:VEVENT
DTSTART;TZID=America/Toronto:20241125T160000
DTEND;TZID=America/Toronto:20241125T170000
DTSTAMP:20260422T050755
CREATED:20241007T183325Z
LAST-MODIFIED:20241007T183325Z
UID:10000908-1732550400-1732554000@www.omvic.ca
SUMMARY:Webinar: Buying a Car in Ontario – Kawartha Lakes Public Library
DESCRIPTION:Buying a vehicle can be an emotionally charged experience with long-term financial implications. \nJoin a representative from the Ontario Motor Vehicle Industry Council (OMVIC) to learn about resources and tips for buying new and used cars in Ontario. \nTopics will include: \n\nOMVIC’s Compensation Fund\nUnderstanding Car Dealer Advertising\nNegative Equity & Long Term Loans\nAgreement & Disclosure\nAvoiding Curbsides & Fraud Prevention\nTips for Buying or Leasing a Car\n\nIn partnership with the Ontario Motor Vehicle Industry Council (OMVIC) and the Kawartha Lakes Public Library \n  \nTo register please contact the library staff by phone:705-324-9411 or visit: https://www.kawarthalakeslibrary.ca/en/index.aspx
URL:https://www.omvic.ca/event/webinar-buying-a-car-in-ontario-kawartha-lakes-public-library-3/
CATEGORIES:Buying
END:VEVENT
BEGIN:VEVENT
DTSTART;TZID=America/Toronto:20241128T190000
DTEND;TZID=America/Toronto:20241128T200000
DTSTAMP:20260422T050755
CREATED:20240313T172433Z
LAST-MODIFIED:20240724T152902Z
UID:10000845-1732820400-1732824000@www.omvic.ca
SUMMARY:Webinar: Navigating The Vehicle Market: An Expert Guide to Informed Car Purchases
DESCRIPTION:Join us for a virtual workshop presented in partnership with the Ontario Motor Vehicle Industry Council (OMVIC)\, the regulator of motor vehicle sales in Ontario. OMVIC supports works to support consumers in their vehicle buying journey to ensure they are confident and informed about their purchase. \nIn this workshop\, OMVIC will provide resources\, tips\, and advice to car buyers on what to look for when leasing\, buying new\, and buying used cars in Ontario. Topics will include OMVIC’s role\, the Compensation Fund\, all-in price advertising\, contracts and disclosures\, and dealing with negative equity. Don’t miss this opportunity to gain valuable insights into car buying in Ontario.
URL:https://www.omvic.ca/event/navigating-the-vehicle-market-november/
LOCATION:Zoom Videoconference Platform
CATEGORIES:Buying
END:VEVENT
BEGIN:VEVENT
DTSTART;TZID=America/Toronto:20241128T190000
DTEND;TZID=America/Toronto:20241128T200000
DTSTAMP:20260422T050755
CREATED:20241022T133243Z
LAST-MODIFIED:20241022T133243Z
UID:10000917-1732820400-1732824000@www.omvic.ca
SUMMARY:Webinar: Navigating The Vehicle Market: An Expert Guide to Informed Car Purchases - Markham Public Library
DESCRIPTION:Join us for a virtual workshop presented in partnership with the Ontario Motor Vehicle Industry Council (OMVIC)\, the regulator of motor vehicle sales in Ontario. OMVIC supports works to support consumers in their vehicle buying journey to ensure they are confident and informed about their purchase. \nIn this workshop\, OMVIC will provide resources\, tips\, and advice to car buyers on what to look for when leasing\, buying new\, and buying used cars in Ontario. Topics will include OMVIC’s role\, the Compensation Fund\, all-in price advertising\, contracts and disclosures\, and dealing with negative equity. Don’t miss this opportunity to gain valuable insights into car buying in Ontario. \nTo register: https://markham.bibliocommons.com/events/65f1be60638eb02f00f2a6ad
URL:https://www.omvic.ca/event/webinar-navigating-the-vehicle-market-an-expert-guide-to-informed-car-purchases-markham-public-library/
LOCATION:Zoom Videoconference Platform
CATEGORIES:Buying
END:VEVENT
BEGIN:VEVENT
DTSTART;TZID=America/Toronto:20241129T110000
DTEND;TZID=America/Toronto:20241129T120000
DTSTAMP:20260422T050755
CREATED:20241101T172341Z
LAST-MODIFIED:20241101T172411Z
UID:10000936-1732878000-1732881600@www.omvic.ca
SUMMARY:Webinar: New Transaction Fee Reporting Process effective January 2025
DESCRIPTION:OMVIC has enhanced its annual transaction fee reporting process to better support dealers in accurately reporting all motor vehicle retail\, lease\, and exported non-dealer transactions. \nThis process change follows a comprehensive review\, which included feedback from a recent pilot project and recommendations from the Auditor General of Ontario\, aimed at addressing identified inconsistencies and improving the overall process.
URL:https://www.omvic.ca/event/webinar-new-transaction-fee-reporting-process-effective-january-2025/
LOCATION:Zoom Videoconference Platform
END:VEVENT
END:VCALENDAR