BEGIN:VCALENDAR
VERSION:2.0
PRODID:-//OMVIC - ECPv6.15.18//NONSGML v1.0//EN
CALSCALE:GREGORIAN
METHOD:PUBLISH
X-ORIGINAL-URL:https://www.omvic.ca
X-WR-CALDESC:Events for OMVIC
REFRESH-INTERVAL;VALUE=DURATION:PT1H
X-Robots-Tag:noindex
X-PUBLISHED-TTL:PT1H
BEGIN:VTIMEZONE
TZID:America/Toronto
BEGIN:DAYLIGHT
TZOFFSETFROM:-0500
TZOFFSETTO:-0400
TZNAME:EDT
DTSTART:20250309T070000
END:DAYLIGHT
BEGIN:STANDARD
TZOFFSETFROM:-0400
TZOFFSETTO:-0500
TZNAME:EST
DTSTART:20251102T060000
END:STANDARD
BEGIN:DAYLIGHT
TZOFFSETFROM:-0500
TZOFFSETTO:-0400
TZNAME:EDT
DTSTART:20260308T070000
END:DAYLIGHT
BEGIN:STANDARD
TZOFFSETFROM:-0400
TZOFFSETTO:-0500
TZNAME:EST
DTSTART:20261101T060000
END:STANDARD
BEGIN:DAYLIGHT
TZOFFSETFROM:-0500
TZOFFSETTO:-0400
TZNAME:EDT
DTSTART:20270314T070000
END:DAYLIGHT
BEGIN:STANDARD
TZOFFSETFROM:-0400
TZOFFSETTO:-0500
TZNAME:EST
DTSTART:20271107T060000
END:STANDARD
END:VTIMEZONE
BEGIN:VEVENT
DTSTART;TZID=America/Toronto:20260114T100000
DTEND;TZID=America/Toronto:20260114T104500
DTSTAMP:20260420T060354
CREATED:20251218T164121Z
LAST-MODIFIED:20251218T164121Z
UID:10001183-1768384800-1768387500@www.omvic.ca
SUMMARY:Advertising Compliance
DESCRIPTION:Join OMVIC for an essential webinar designed to help motor vehicle dealers and salespersons understand and meet their advertising obligations. This session will provide a clear and practical overview of the legal requirements outlined in the Motor Vehicle Dealers Act (MVDA) and the Consumer Protection Act (CPA) in relation to advertising requirements\, such as all-in pricing.
URL:https://www.omvic.ca/event/advertising-compliance-jan-morning/
LOCATION:Zoom Videoconference Platform
CATEGORIES:Advertising compliance,Selling
ATTACH;FMTTYPE=image/jpeg:https://www.omvic.ca/wp-content/uploads/2025/09/Webinar-Image-Advertising-Compliance.jpg
END:VEVENT
BEGIN:VEVENT
DTSTART;TZID=America/Toronto:20260114T140000
DTEND;TZID=America/Toronto:20260114T144500
DTSTAMP:20260420T060354
CREATED:20251218T164218Z
LAST-MODIFIED:20251218T164218Z
UID:10001184-1768399200-1768401900@www.omvic.ca
SUMMARY:Advertising Compliance
DESCRIPTION:Join OMVIC for an essential webinar designed to help motor vehicle dealers and salespersons understand and meet their advertising obligations. This session will provide a clear and practical overview of the legal requirements outlined in the Motor Vehicle Dealers Act (MVDA) and the Consumer Protection Act (CPA) in relation to advertising requirements\, such as all-in pricing.
URL:https://www.omvic.ca/event/advertising-compliance-jan-afternoon/
LOCATION:Zoom Videoconference Platform
CATEGORIES:Advertising compliance,Selling
ATTACH;FMTTYPE=image/jpeg:https://www.omvic.ca/wp-content/uploads/2025/09/Webinar-Image-Advertising-Compliance.jpg
END:VEVENT
END:VCALENDAR