BEGIN:VCALENDAR
VERSION:2.0
PRODID:-//OMVIC - ECPv6.15.18//NONSGML v1.0//EN
CALSCALE:GREGORIAN
METHOD:PUBLISH
X-WR-CALNAME:OMVIC
X-ORIGINAL-URL:https://www.omvic.ca
X-WR-CALDESC:Events for OMVIC
REFRESH-INTERVAL;VALUE=DURATION:PT1H
X-Robots-Tag:noindex
X-PUBLISHED-TTL:PT1H
BEGIN:VTIMEZONE
TZID:America/Toronto
BEGIN:DAYLIGHT
TZOFFSETFROM:-0500
TZOFFSETTO:-0400
TZNAME:EDT
DTSTART:20250309T070000
END:DAYLIGHT
BEGIN:STANDARD
TZOFFSETFROM:-0400
TZOFFSETTO:-0500
TZNAME:EST
DTSTART:20251102T060000
END:STANDARD
BEGIN:DAYLIGHT
TZOFFSETFROM:-0500
TZOFFSETTO:-0400
TZNAME:EDT
DTSTART:20260308T070000
END:DAYLIGHT
BEGIN:STANDARD
TZOFFSETFROM:-0400
TZOFFSETTO:-0500
TZNAME:EST
DTSTART:20261101T060000
END:STANDARD
BEGIN:DAYLIGHT
TZOFFSETFROM:-0500
TZOFFSETTO:-0400
TZNAME:EDT
DTSTART:20270314T070000
END:DAYLIGHT
BEGIN:STANDARD
TZOFFSETFROM:-0400
TZOFFSETTO:-0500
TZNAME:EST
DTSTART:20271107T060000
END:STANDARD
END:VTIMEZONE
BEGIN:VEVENT
DTSTART;TZID=America/Toronto:20260303T093000
DTEND;TZID=America/Toronto:20260303T093000
DTSTAMP:20260421T000815
CREATED:20251124T143636Z
LAST-MODIFIED:20260120T174450Z
UID:10001165-1772530200-1772530200@www.omvic.ca
SUMMARY:LAT Hearing: Leon’s Fine Cars Ltd. & Lev Babekov
DESCRIPTION:The Licence Appeal Tribunal will hold a videoconference hearing to consider an appeal of a Decision dated May 07\, 2025\, pursuant to the provisions of the Motor Vehicle Dealers Act\, 2002. The parties must attend the Tribunal on the date and time\, and at the\nlocation below.
URL:https://www.omvic.ca/event/lat-hearing-leons-fine-cars-ltd-lev-babekov/2026-03-03/
LOCATION:Zoom Videoconference Platform
CATEGORIES:LAT Hearing
END:VEVENT
BEGIN:VEVENT
DTSTART;TZID=America/Toronto:20260303T093000
DTEND;TZID=America/Toronto:20260303T093000
DTSTAMP:20260421T000815
CREATED:20260123T153012Z
LAST-MODIFIED:20260123T153012Z
UID:10001254-1772530200-1772530200@www.omvic.ca
SUMMARY:LAT Hearing: 1000470565 Ontario Inc. o/a All Gear Auto
DESCRIPTION:The Licence Appeal Tribunal will hold a videoconference hearing to consider an appeal of a Registration dated Oct 18\, 2025\, pursuant to the provisions of the Motor Vehicle Dealers Act\, 2002. The parties must attend the Tribunal on the date and time\, and at the location below.
URL:https://www.omvic.ca/event/lat-hearing-1000470565-ontario-inc-o-a-all-gear-auto/2026-03-03/
LOCATION:Zoom Videoconference Platform
CATEGORIES:LAT Hearing
END:VEVENT
BEGIN:VEVENT
DTSTART;TZID=America/Toronto:20260304T093000
DTEND;TZID=America/Toronto:20260304T093000
DTSTAMP:20260421T000815
CREATED:20251124T143636Z
LAST-MODIFIED:20260120T174450Z
UID:10001166-1772616600-1772616600@www.omvic.ca
SUMMARY:LAT Hearing: Leon’s Fine Cars Ltd. & Lev Babekov
DESCRIPTION:The Licence Appeal Tribunal will hold a videoconference hearing to consider an appeal of a Decision dated May 07\, 2025\, pursuant to the provisions of the Motor Vehicle Dealers Act\, 2002. The parties must attend the Tribunal on the date and time\, and at the\nlocation below.
URL:https://www.omvic.ca/event/lat-hearing-leons-fine-cars-ltd-lev-babekov/2026-03-04/
LOCATION:Zoom Videoconference Platform
CATEGORIES:LAT Hearing
END:VEVENT
BEGIN:VEVENT
DTSTART;TZID=America/Toronto:20260304T093000
DTEND;TZID=America/Toronto:20260304T093000
DTSTAMP:20260421T000815
CREATED:20260123T153012Z
LAST-MODIFIED:20260123T153012Z
UID:10001255-1772616600-1772616600@www.omvic.ca
SUMMARY:LAT Hearing: 1000470565 Ontario Inc. o/a All Gear Auto
DESCRIPTION:The Licence Appeal Tribunal will hold a videoconference hearing to consider an appeal of a Registration dated Oct 18\, 2025\, pursuant to the provisions of the Motor Vehicle Dealers Act\, 2002. The parties must attend the Tribunal on the date and time\, and at the location below.
URL:https://www.omvic.ca/event/lat-hearing-1000470565-ontario-inc-o-a-all-gear-auto/2026-03-04/
LOCATION:Zoom Videoconference Platform
CATEGORIES:LAT Hearing
END:VEVENT
BEGIN:VEVENT
DTSTART;TZID=America/Toronto:20260305T093000
DTEND;TZID=America/Toronto:20260305T093000
DTSTAMP:20260421T000815
CREATED:20251124T143636Z
LAST-MODIFIED:20260120T174450Z
UID:10001167-1772703000-1772703000@www.omvic.ca
SUMMARY:LAT Hearing: Leon’s Fine Cars Ltd. & Lev Babekov
DESCRIPTION:The Licence Appeal Tribunal will hold a videoconference hearing to consider an appeal of a Decision dated May 07\, 2025\, pursuant to the provisions of the Motor Vehicle Dealers Act\, 2002. The parties must attend the Tribunal on the date and time\, and at the\nlocation below.
URL:https://www.omvic.ca/event/lat-hearing-leons-fine-cars-ltd-lev-babekov/2026-03-05/
LOCATION:Zoom Videoconference Platform
CATEGORIES:LAT Hearing
END:VEVENT
BEGIN:VEVENT
DTSTART;TZID=America/Toronto:20260306T093000
DTEND;TZID=America/Toronto:20260306T093000
DTSTAMP:20260421T000815
CREATED:20251124T143636Z
LAST-MODIFIED:20260120T174450Z
UID:10001168-1772789400-1772789400@www.omvic.ca
SUMMARY:LAT Hearing: Leon’s Fine Cars Ltd. & Lev Babekov
DESCRIPTION:The Licence Appeal Tribunal will hold a videoconference hearing to consider an appeal of a Decision dated May 07\, 2025\, pursuant to the provisions of the Motor Vehicle Dealers Act\, 2002. The parties must attend the Tribunal on the date and time\, and at the\nlocation below.
URL:https://www.omvic.ca/event/lat-hearing-leons-fine-cars-ltd-lev-babekov/2026-03-06/
LOCATION:Zoom Videoconference Platform
CATEGORIES:LAT Hearing
END:VEVENT
BEGIN:VEVENT
DTSTART;TZID=America/Toronto:20260309T093000
DTEND;TZID=America/Toronto:20260309T093000
DTSTAMP:20260421T000815
CREATED:20251230T144105Z
LAST-MODIFIED:20260120T174455Z
UID:10001223-1773048600-1773048600@www.omvic.ca
SUMMARY:LAT Hearing: George Matti Motorsports Ltd. o/a George Matti Motorsports
DESCRIPTION:ThThe Licence Appeal Tribunal will hold a videoconference hearing to consider an appeal of a Proposal dated Sep 11\, 2025\, pursuant to the provisions of the Motor Vehicle Dealers Act\, 2002. The parties must attend the Tribunal on the date and time\, and at the location below
URL:https://www.omvic.ca/event/lat-hearing-george-matti-motorsports-ltd-o-a-george-matti-motorsports/2026-03-09/
LOCATION:Zoom Videoconference Platform
CATEGORIES:LAT Hearing
END:VEVENT
BEGIN:VEVENT
DTSTART;TZID=America/Toronto:20260310T093000
DTEND;TZID=America/Toronto:20260310T093000
DTSTAMP:20260421T000815
CREATED:20251230T144105Z
LAST-MODIFIED:20260120T174455Z
UID:10001224-1773135000-1773135000@www.omvic.ca
SUMMARY:LAT Hearing: George Matti Motorsports Ltd. o/a George Matti Motorsports
DESCRIPTION:ThThe Licence Appeal Tribunal will hold a videoconference hearing to consider an appeal of a Proposal dated Sep 11\, 2025\, pursuant to the provisions of the Motor Vehicle Dealers Act\, 2002. The parties must attend the Tribunal on the date and time\, and at the location below
URL:https://www.omvic.ca/event/lat-hearing-george-matti-motorsports-ltd-o-a-george-matti-motorsports/2026-03-10/
LOCATION:Zoom Videoconference Platform
CATEGORIES:LAT Hearing
END:VEVENT
BEGIN:VEVENT
DTSTART;TZID=America/Toronto:20260311T093000
DTEND;TZID=America/Toronto:20260311T093000
DTSTAMP:20260421T000815
CREATED:20260303T210523Z
LAST-MODIFIED:20260303T210523Z
UID:10001274-1773221400-1773221400@www.omvic.ca
SUMMARY:LAT Hearing: Marco Sinagoga & 7631901 Canada Corp o/a Montero Auto Centre
DESCRIPTION:The Licence Appeal Tribunal will hold a videoconference hearing to consider an appeal of a Proposal dated Feb 24\, 2026\, pursuant to the provisions of the Motor Vehicle Dealers Act\, 2002. The parties must attend the Tribunal on the date and time\, and at the location below.
URL:https://www.omvic.ca/event/lat-hearing-marco-sinagoga-7631901-canada-corp-o-a-montero-auto-centre/
LOCATION:Zoom Videoconference Platform
CATEGORIES:LAT Hearing
END:VEVENT
BEGIN:VEVENT
DTSTART;TZID=America/Toronto:20260330T093000
DTEND;TZID=America/Toronto:20260330T093000
DTSTAMP:20260421T000815
CREATED:20251014T131916Z
LAST-MODIFIED:20251014T131916Z
UID:10001141-1774863000-1774863000@www.omvic.ca
SUMMARY:LAT Hearing: Mohamed Irfaan Bharwani o/a Aris Motors
DESCRIPTION:The Licence Appeal Tribunal will hold a videoconference hearing to consider an appeal of a Proposal dated May 06\, 2025\, pursuant to the provisions of the Motor Vehicle Dealers Act\, 2002. The parties must attend the Tribunal on the date and time\, and at the location below.
URL:https://www.omvic.ca/event/lat-hearing-mohamed-irfaan-bharwani-o-a-aris-motors-2/2026-03-30/
LOCATION:Zoom Videoconference Platform
CATEGORIES:LAT Hearing
END:VEVENT
BEGIN:VEVENT
DTSTART;TZID=America/Toronto:20260331T093000
DTEND;TZID=America/Toronto:20260331T093000
DTSTAMP:20260421T000815
CREATED:20251014T131916Z
LAST-MODIFIED:20251014T131916Z
UID:10001142-1774949400-1774949400@www.omvic.ca
SUMMARY:LAT Hearing: Mohamed Irfaan Bharwani o/a Aris Motors
DESCRIPTION:The Licence Appeal Tribunal will hold a videoconference hearing to consider an appeal of a Proposal dated May 06\, 2025\, pursuant to the provisions of the Motor Vehicle Dealers Act\, 2002. The parties must attend the Tribunal on the date and time\, and at the location below.
URL:https://www.omvic.ca/event/lat-hearing-mohamed-irfaan-bharwani-o-a-aris-motors-2/2026-03-31/
LOCATION:Zoom Videoconference Platform
CATEGORIES:LAT Hearing
END:VEVENT
BEGIN:VEVENT
DTSTART;TZID=America/Toronto:20260331T093000
DTEND;TZID=America/Toronto:20260331T093000
DTSTAMP:20260421T000815
CREATED:20260116T164124Z
LAST-MODIFIED:20260116T164124Z
UID:10001245-1774949400-1774949400@www.omvic.ca
SUMMARY:LAT Hearing: Chaudry\, Khalid o/a Fine Auto Sales
DESCRIPTION:The Licence Appeal Tribunal will hold a videoconference hearing to consider an appeal of a Registration dated Nov 09\, 2025\, pursuant to the provisions of the Motor Vehicle Dealers Act\, 2002. The parties must attend the Tribunal on the date and time\, and at the location below.
URL:https://www.omvic.ca/event/lat-hearing-chaudry-khalid-o-a-fine-auto-sales/2026-03-31/
LOCATION:Zoom Videoconference Platform
CATEGORIES:LAT Hearing
END:VEVENT
END:VCALENDAR